BEGIN:VCALENDAR
PRODID:-//Microsoft Corporation//Outlook 10.0 MIMEDIR//EN
VERSION:2.0
METHOD:PUBLISH
BEGIN:VEVENT
DTSTART:20100605T230000Z
DTEND:20100606T033000Z
LOCATION:The Ivy Room at Tree Studios
TRANSP:OPAQUE
SEQUENCE:0
UID:040000008200E00074C5B7101A82E00800000000D05F9CF506A2CA010000000000000000100
 00000E02AFBE8D884604FB0239517201E1878
DTSTAMP:20100131T045010Z
DESCRIPTION:12 E. Ohio Street\, Chicago IL 60611\n
SUMMARY:Ken and Christina's Wedding Reception
PRIORITY:5
CLASS:PUBLIC
BEGIN:VALARM
TRIGGER:-PT15M
ACTION:DISPLAY
DESCRIPTION:Reminder
END:VALARM
END:VEVENT
END:VCALENDAR
