BEGIN:VCALENDAR
PRODID:-//Microsoft Corporation//Outlook 10.0 MIMEDIR//EN
VERSION:2.0
METHOD:PUBLISH
BEGIN:VEVENT
DTSTART:20100605T221500Z
DTEND:20100605T230000Z
LOCATION:Chapel of Saint James at the Archbishop Quigley Pastoral Center
TRANSP:OPAQUE
SEQUENCE:0
UID:040000008200E00074C5B7101A82E00800000000101726D406A2CA010000000000000000100
 0000095963AF8CA7005478B485D82FCDD2DA3
DTSTAMP:20100131T044914Z
DESCRIPTION:835 N. Rush Street\, Chicago IL 60611\n
SUMMARY:Ken and Christina's Wedding Ceremony
PRIORITY:5
CLASS:PUBLIC
BEGIN:VALARM
TRIGGER:-PT15M
ACTION:DISPLAY
DESCRIPTION:Reminder
END:VALARM
END:VEVENT
END:VCALENDAR
